BEGIN:VCALENDAR
VERSION:2.0
PRODID:-//Judge Frank M. Johnson - ECPv6.15.20//NONSGML v1.0//EN
CALSCALE:GREGORIAN
METHOD:PUBLISH
X-ORIGINAL-URL:https://thejohnsoninstitute.org
X-WR-CALDESC:Events for Judge Frank M. Johnson
REFRESH-INTERVAL;VALUE=DURATION:PT1H
X-Robots-Tag:noindex
X-PUBLISHED-TTL:PT1H
BEGIN:VTIMEZONE
TZID:America/Chicago
BEGIN:DAYLIGHT
TZOFFSETFROM:-0600
TZOFFSETTO:-0500
TZNAME:CDT
DTSTART:20250309T080000
END:DAYLIGHT
BEGIN:STANDARD
TZOFFSETFROM:-0500
TZOFFSETTO:-0600
TZNAME:CST
DTSTART:20251102T070000
END:STANDARD
BEGIN:DAYLIGHT
TZOFFSETFROM:-0600
TZOFFSETTO:-0500
TZNAME:CDT
DTSTART:20260308T080000
END:DAYLIGHT
BEGIN:STANDARD
TZOFFSETFROM:-0500
TZOFFSETTO:-0600
TZNAME:CST
DTSTART:20261101T070000
END:STANDARD
BEGIN:DAYLIGHT
TZOFFSETFROM:-0600
TZOFFSETTO:-0500
TZNAME:CDT
DTSTART:20270314T080000
END:DAYLIGHT
BEGIN:STANDARD
TZOFFSETFROM:-0500
TZOFFSETTO:-0600
TZNAME:CST
DTSTART:20271107T070000
END:STANDARD
END:VTIMEZONE
BEGIN:VEVENT
DTSTART;TZID=America/Chicago:20260608T080000
DTEND;TZID=America/Chicago:20260611T170000
DTSTAMP:20260419T211335
CREATED:20260310T150648Z
LAST-MODIFIED:20260310T162427Z
UID:2275-1780905600-1781197200@thejohnsoninstitute.org
SUMMARY:The Johnson Institute Scholars Conference 2026
DESCRIPTION:Join education and legal professionals in Montgomery\, Alabama for a multi-day conference on incorporating historic court cases into middle and high school instruction. This conference for educators will take a pedagogical look at the Constitutional arguments of landmark court cases from the Civil Rights Era. \n\n\n\n\n\n\n\n\n\nConference Highlights:\n\n\n\n\n\n\n\n\n\n\nProfessional learning with educational experts\, federal judges\, and other experts focused on teaching the U.S. Constitution through historic court cases.\n\n\n\nClassroom resources (online and hard copies) including:\n\nLesson plans and outlines on teaching constitutional court cases.\n\n\n\nStudent-friendly summaries of court cases.\n\n\n\nPrimary and secondary source documents for further study.\n\n\n\n\n\nTeaching strategies for incorporating constitutional court cases and their significance into contemporary lessons.\n\n\n\nAccess to the Johnson Institute’s growing library of educational resources\, community of experts\, and future professional development opportunities.\n\n\n\nCertificate of Attendance confirming course completion\,\n\n\n\nSmall stipend for time and travel costs and upon course completion.\n\n\n\n\n\n\n\n\n\n\nWHEN: Tuesday-Thursday\, June 9-11\, 2026 \n\n\n\nWHO:Middle and high school teachers of history\, government\, social studies and related courses are invited to apply for the 2025 Class of the Johnson Institute Scholars. Teachers from other subjects are also invited to apply\, but preference will be given to teachers of social studies subjects. The number of participants in each conference will be capped to allow for meaningful discussion and interaction. \n\n\n\nApplications are reviewed and applicants selected on a rolling basis. Classes will consist of new members who have not been part of previous Scholars Classes. \n\n\n\nInvitees will receive a digital registration form with further information. \n\n\n\nWHERE: All events\, unless otherwise noted\, will take place at the Frank Johnson Courthouse\, 1 Church St.\, Montgomery\, AL 36104. Attendees traveling from outside a 50-mile radius of Montgomery may qualify for lodging assistance. \n\n\n\nCOST: This course is free of charge thanks to generous supporters of the Johnson Institute. \n\n\n\nREGISTRATION FEE: A $50 refundable registration fee is required to secure your membership for the 2026 Scholars Class. \n\n\n\n\nClick Here to Register
URL:https://thejohnsoninstitute.org/event/the-johnson-institute-scholars-conference-2026/
ATTACH;FMTTYPE=image/webp:https://thejohnsoninstitute.org/wp-content/uploads/2026/03/image.webp
END:VEVENT
END:VCALENDAR